BEGIN:VCALENDAR
VERSION:2.0
PRODID:-//217.160.0.248//NONSGML kigkonsult.se iCalcreator 2.20//
CALSCALE:GREGORIAN
METHOD:PUBLISH
X-WR-TIMEZONE:UTC
BEGIN:VEVENT
UID:event87@Renault 4 Club Deutschland
DTSTAMP:20260421T092543Z
CATEGORIES:Schraubertag
DESCRIPTION:R4-Frühjahrs-Werkstatttag 2026\nKategorie: Schraubertag\nICS-Li
 nk: https://www.renault4.de/index.php?option=com_jem&view=event&id=87:r4-f
 ruehjahrs-werkstatttag-2026\n
DTSTART:20260425T090000Z
DTEND:20260425T190000Z
LOCATION:Bondorf\,71149 Bondorf\,Germany
SUMMARY:R4-Frühjahrs-Werkstatttag 2026
URL:https://www.renault4.de/index.php?option=com_jem&view=event&id=87:r4-fr
 uehjahrs-werkstatttag-2026
END:VEVENT
END:VCALENDAR